BEGIN:VCALENDAR
VERSION:2.0
PRODID:-//Grundschule an der Brucker Lache - ECPv6.11.2.1//NONSGML v1.0//EN
CALSCALE:GREGORIAN
METHOD:PUBLISH
X-WR-CALNAME:Grundschule an der Brucker Lache
X-ORIGINAL-URL:https://schule-bruckerlache.de
X-WR-CALDESC:Veranstaltungen für Grundschule an der Brucker Lache
REFRESH-INTERVAL;VALUE=DURATION:PT1H
X-Robots-Tag:noindex
X-PUBLISHED-TTL:PT1H
BEGIN:VTIMEZONE
TZID:Europe/Berlin
BEGIN:DAYLIGHT
TZOFFSETFROM:+0100
TZOFFSETTO:+0200
TZNAME:CEST
DTSTART:20250330T010000
END:DAYLIGHT
BEGIN:STANDARD
TZOFFSETFROM:+0200
TZOFFSETTO:+0100
TZNAME:CET
DTSTART:20251026T010000
END:STANDARD
END:VTIMEZONE
BEGIN:VEVENT
DTSTART;TZID=Europe/Berlin:20250702T090000
DTEND;TZID=Europe/Berlin:20250702T121500
DTSTAMP:20260423T083921
CREATED:20241006T141922Z
LAST-MODIFIED:20250701T045557Z
UID:3720-1751446800-1751458500@schule-bruckerlache.de
SUMMARY:Bundesjugendspiele
DESCRIPTION:Auf Grund der Hitze werden die Bundesjugendspiele auf Montag\, den 7.Juli verschoben.
URL:https://schule-bruckerlache.de/event/bundesjugendspiele-8/
END:VEVENT
BEGIN:VEVENT
DTSTART;TZID=Europe/Berlin:20250708T100000
DTEND;TZID=Europe/Berlin:20250708T111500
DTSTAMP:20260423T083921
CREATED:20241006T142022Z
LAST-MODIFIED:20241006T142022Z
UID:3722-1751968800-1751973300@schule-bruckerlache.de
SUMMARY:Spielefest der 1. Klassen
DESCRIPTION:
URL:https://schule-bruckerlache.de/event/spielefest-der-1-klassen-2/
END:VEVENT
BEGIN:VEVENT
DTSTART;TZID=Europe/Berlin:20250718T100000
DTEND;TZID=Europe/Berlin:20250718T120000
DTSTAMP:20260423T083921
CREATED:20241006T142152Z
LAST-MODIFIED:20241006T142152Z
UID:3724-1752832800-1752840000@schule-bruckerlache.de
SUMMARY:Fußballturnier zwischen den 3. und 4. Klassen
DESCRIPTION:
URL:https://schule-bruckerlache.de/event/fussballturnier-zwischen-den-3-und-4-klassen-2/
END:VEVENT
BEGIN:VEVENT
DTSTART;TZID=Europe/Berlin:20250721T081500
DTEND;TZID=Europe/Berlin:20250721T143000
DTSTAMP:20260423T083921
CREATED:20241006T142301Z
LAST-MODIFIED:20241006T142301Z
UID:3726-1753085700-1753108200@schule-bruckerlache.de
SUMMARY:Schulausflug
DESCRIPTION:
URL:https://schule-bruckerlache.de/event/schulausflug-2/
END:VEVENT
BEGIN:VEVENT
DTSTART;TZID=Europe/Berlin:20250730T100000
DTEND;TZID=Europe/Berlin:20250730T110000
DTSTAMP:20260423T083921
CREATED:20250714T153001Z
LAST-MODIFIED:20250714T153001Z
UID:3912-1753869600-1753873200@schule-bruckerlache.de
SUMMARY:Abschlussgottesdienst
DESCRIPTION:
URL:https://schule-bruckerlache.de/event/abschlussgottesdienst-8/
END:VEVENT
BEGIN:VEVENT
DTSTART;TZID=Europe/Berlin:20250731T100000
DTEND;TZID=Europe/Berlin:20250731T111500
DTSTAMP:20260423T083921
CREATED:20241006T142451Z
LAST-MODIFIED:20241006T142451Z
UID:3728-1753956000-1753960500@schule-bruckerlache.de
SUMMARY:Letzter Schultag / Abschlussfeier / Zeugnisausgabe
DESCRIPTION:
URL:https://schule-bruckerlache.de/event/letzter-schultag-abschlussfeier-zeugnisausgabe-8/
END:VEVENT
END:VCALENDAR