BEGIN:VCALENDAR
VERSION:2.0
PRODID:-//Grundschule an der Brucker Lache - ECPv6.11.2.1//NONSGML v1.0//EN
CALSCALE:GREGORIAN
METHOD:PUBLISH
X-WR-CALNAME:Grundschule an der Brucker Lache
X-ORIGINAL-URL:https://schule-bruckerlache.de
X-WR-CALDESC:Veranstaltungen für Grundschule an der Brucker Lache
REFRESH-INTERVAL;VALUE=DURATION:PT1H
X-Robots-Tag:noindex
X-PUBLISHED-TTL:PT1H
BEGIN:VTIMEZONE
TZID:Europe/Berlin
BEGIN:DAYLIGHT
TZOFFSETFROM:+0100
TZOFFSETTO:+0200
TZNAME:CEST
DTSTART:20250330T010000
END:DAYLIGHT
BEGIN:STANDARD
TZOFFSETFROM:+0200
TZOFFSETTO:+0100
TZNAME:CET
DTSTART:20251026T010000
END:STANDARD
END:VTIMEZONE
BEGIN:VEVENT
DTSTART;TZID=Europe/Berlin:20250108T180000
DTEND;TZID=Europe/Berlin:20250108T190000
DTSTAMP:20260425T154302
CREATED:20241006T102105Z
LAST-MODIFIED:20241006T102105Z
UID:3665-1736359200-1736362800@schule-bruckerlache.de
SUMMARY:Elternabend zum Lernentwicklungsgespräch
DESCRIPTION:
URL:https://schule-bruckerlache.de/event/elternabend-zum-lernentwicklungsgespraech-6/
END:VEVENT
BEGIN:VEVENT
DTSTART;TZID=Europe/Berlin:20250115T180000
DTEND;TZID=Europe/Berlin:20250115T193000
DTSTAMP:20260425T154302
CREATED:20250109T180108Z
LAST-MODIFIED:20250109T180108Z
UID:3820-1736964000-1736969400@schule-bruckerlache.de
SUMMARY:Elternabend für die Schulanfänger
DESCRIPTION:
URL:https://schule-bruckerlache.de/event/elternabend-fuer-die-schulanfaenger-7/
END:VEVENT
BEGIN:VEVENT
DTSTART;VALUE=DATE:20250120
DTEND;VALUE=DATE:20250121
DTSTAMP:20260425T154302
CREATED:20241006T102521Z
LAST-MODIFIED:20241006T102521Z
UID:3669-1737331200-1737417599@schule-bruckerlache.de
SUMMARY:Lernentwicklungsgespräche in den 1. und 2. Klassen
DESCRIPTION:Ab dem 20. Januar 2025 finden die Lernentwicklungsgespräche in der Schule mit Ihrem Schulkind statt. Es werden vorher von den Klassenlehrerinnen Termine vergeben.
URL:https://schule-bruckerlache.de/event/lernentwicklungsgespraeche-in-den-1-und-2-klassen-4/
END:VEVENT
BEGIN:VEVENT
DTSTART;VALUE=DATE:20250123
DTEND;VALUE=DATE:20250124
DTSTAMP:20260425T154302
CREATED:20241130T092637Z
LAST-MODIFIED:20241203T201216Z
UID:3793-1737590400-1737676799@schule-bruckerlache.de
SUMMARY:Schwimmfest Quaks für die 3.Klassen
DESCRIPTION:
URL:https://schule-bruckerlache.de/event/schwimmfest-quaks-fuer-die-3-klassen/
END:VEVENT
BEGIN:VEVENT
DTSTART;VALUE=DATE:20250124
DTEND;VALUE=DATE:20250125
DTSTAMP:20260425T154302
CREATED:20241006T102614Z
LAST-MODIFIED:20241006T102614Z
UID:3671-1737676800-1737763199@schule-bruckerlache.de
SUMMARY:Zwischeninformation für die 4. Klassen
DESCRIPTION:
URL:https://schule-bruckerlache.de/event/zwischeninformation-fuer-die-4-klassen-9/
END:VEVENT
END:VCALENDAR