BEGIN:VCALENDAR
VERSION:2.0
PRODID:-//Grundschule an der Brucker Lache - ECPv6.11.2.1//NONSGML v1.0//EN
CALSCALE:GREGORIAN
METHOD:PUBLISH
X-WR-CALNAME:Grundschule an der Brucker Lache
X-ORIGINAL-URL:https://schule-bruckerlache.de
X-WR-CALDESC:Veranstaltungen für Grundschule an der Brucker Lache
REFRESH-INTERVAL;VALUE=DURATION:PT1H
X-Robots-Tag:noindex
X-PUBLISHED-TTL:PT1H
BEGIN:VTIMEZONE
TZID:Europe/Berlin
BEGIN:DAYLIGHT
TZOFFSETFROM:+0100
TZOFFSETTO:+0200
TZNAME:CEST
DTSTART:20240331T010000
END:DAYLIGHT
BEGIN:STANDARD
TZOFFSETFROM:+0200
TZOFFSETTO:+0100
TZNAME:CET
DTSTART:20241027T010000
END:STANDARD
END:VTIMEZONE
BEGIN:VEVENT
DTSTART;VALUE=DATE:20240924
DTEND;VALUE=DATE:20241005
DTSTAMP:20260425T202608
CREATED:20240912T124549Z
LAST-MODIFIED:20240912T124549Z
UID:3602-1727136000-1728086399@schule-bruckerlache.de
SUMMARY:Aktion "Zu Fuß zur Schule"
DESCRIPTION:
URL:https://schule-bruckerlache.de/event/aktion-zu-fuss-zur-schule-7/
END:VEVENT
BEGIN:VEVENT
DTSTART;VALUE=DATE:20241004
DTEND;VALUE=DATE:20241005
DTSTAMP:20260425T202608
CREATED:20240912T124927Z
LAST-MODIFIED:20240912T124927Z
UID:3608-1728000000-1728086399@schule-bruckerlache.de
SUMMARY:Erntedankmandala in der Aula legen
DESCRIPTION:
URL:https://schule-bruckerlache.de/event/erntedankmandala-in-der-aula-legen-3/
END:VEVENT
BEGIN:VEVENT
DTSTART;TZID=Europe/Berlin:20241009T084500
DTEND;TZID=Europe/Berlin:20241009T093000
DTSTAMP:20260425T202608
CREATED:20240912T125031Z
LAST-MODIFIED:20240912T125031Z
UID:3610-1728463500-1728466200@schule-bruckerlache.de
SUMMARY:Erntedankfeier
DESCRIPTION:
URL:https://schule-bruckerlache.de/event/erntedankfeier-4/
END:VEVENT
BEGIN:VEVENT
DTSTART;TZID=Europe/Berlin:20241009T094500
DTEND;TZID=Europe/Berlin:20241009T111500
DTSTAMP:20260425T202608
CREATED:20240912T125226Z
LAST-MODIFIED:20240912T125226Z
UID:3612-1728467100-1728472500@schule-bruckerlache.de
SUMMARY:Aktion "Saubere Stadt / Wald"
DESCRIPTION:Unterrichtsschluss um 11:15 Uhr
URL:https://schule-bruckerlache.de/event/aktion-saubere-stadt-wald-2/
END:VEVENT
BEGIN:VEVENT
DTSTART;VALUE=DATE:20241012
DTEND;VALUE=DATE:20241013
DTSTAMP:20260425T202608
CREATED:20240912T125336Z
LAST-MODIFIED:20240912T125336Z
UID:3614-1728691200-1728777599@schule-bruckerlache.de
SUMMARY:Waldaktionsspiel 1b / 1c (Eltern-Kind-Aktion)
DESCRIPTION:
URL:https://schule-bruckerlache.de/event/waldaktionsspiel-1b-1c-eltern-kind-aktion/
END:VEVENT
BEGIN:VEVENT
DTSTART;VALUE=DATE:20241014
DTEND;VALUE=DATE:20241019
DTSTAMP:20260425T202608
CREATED:20240912T125459Z
LAST-MODIFIED:20240912T125459Z
UID:3616-1728864000-1729295999@schule-bruckerlache.de
SUMMARY:Gesundheitswoche
DESCRIPTION:Die 2. Klassen kochen Apfelmus.
URL:https://schule-bruckerlache.de/event/gesundheitswoche/
END:VEVENT
BEGIN:VEVENT
DTSTART;VALUE=DATE:20241015
DTEND;VALUE=DATE:20241016
DTSTAMP:20260425T202608
CREATED:20240914T150806Z
LAST-MODIFIED:20240914T150806Z
UID:3631-1728950400-1729036799@schule-bruckerlache.de
SUMMARY:Mittelfränkische Mathematik-Meisterschaft
DESCRIPTION:Runde im Schulhaus.
URL:https://schule-bruckerlache.de/event/mittelfraenkische-mathematik-meisterschaft/
END:VEVENT
BEGIN:VEVENT
DTSTART;TZID=Europe/Berlin:20241017T183000
DTEND;TZID=Europe/Berlin:20241017T200000
DTSTAMP:20260425T202608
CREATED:20240912T125613Z
LAST-MODIFIED:20240917T083521Z
UID:3618-1729189800-1729195200@schule-bruckerlache.de
SUMMARY:Elternabend: Zum offenen Ganztag
DESCRIPTION:
URL:https://schule-bruckerlache.de/event/elternabend-zum-offenen-ganztages/
END:VEVENT
BEGIN:VEVENT
DTSTART;VALUE=DATE:20241023
DTEND;VALUE=DATE:20241024
DTSTAMP:20260425T202608
CREATED:20240912T130956Z
LAST-MODIFIED:20240912T130956Z
UID:3620-1729641600-1729727999@schule-bruckerlache.de
SUMMARY:Bio-Brotbox-Übergabe für die 1. Klassen
DESCRIPTION:
URL:https://schule-bruckerlache.de/event/bio-brotbox-uebergabe-fuer-die-1-klassen-7/
END:VEVENT
BEGIN:VEVENT
DTSTART;TZID=Europe/Berlin:20241024T183000
DTEND;TZID=Europe/Berlin:20241024T193000
DTSTAMP:20260425T202608
CREATED:20241008T173628Z
LAST-MODIFIED:20241019T075947Z
UID:3740-1729794600-1729798200@schule-bruckerlache.de
SUMMARY:Elternabend - Übertritt an weiterführende Schulen
DESCRIPTION:Dieser Abend ist für die 4. Klassen.
URL:https://schule-bruckerlache.de/event/elternabend-uebertitt-an-weiterfuehrende-schulen/
END:VEVENT
END:VCALENDAR