BEGIN:VCALENDAR
VERSION:2.0
PRODID:-//Grundschule an der Brucker Lache - ECPv6.11.2.1//NONSGML v1.0//EN
CALSCALE:GREGORIAN
METHOD:PUBLISH
X-ORIGINAL-URL:https://schule-bruckerlache.de
X-WR-CALDESC:Veranstaltungen für Grundschule an der Brucker Lache
REFRESH-INTERVAL;VALUE=DURATION:PT1H
X-Robots-Tag:noindex
X-PUBLISHED-TTL:PT1H
BEGIN:VTIMEZONE
TZID:Europe/Berlin
BEGIN:DAYLIGHT
TZOFFSETFROM:+0100
TZOFFSETTO:+0200
TZNAME:CEST
DTSTART:20240331T010000
END:DAYLIGHT
BEGIN:STANDARD
TZOFFSETFROM:+0200
TZOFFSETTO:+0100
TZNAME:CET
DTSTART:20241027T010000
END:STANDARD
END:VTIMEZONE
BEGIN:VEVENT
DTSTART;VALUE=DATE:20240701
DTEND;VALUE=DATE:20240706
DTSTAMP:20260426T010852
CREATED:20240104T143536Z
LAST-MODIFIED:20240104T143536Z
UID:3415-1719792000-1720223999@schule-bruckerlache.de
SUMMARY:Projektwoche 2024 Thema: Trommelzauber
DESCRIPTION:
URL:https://schule-bruckerlache.de/event/projektwoche-2024-thema-trommelzauber/
END:VEVENT
BEGIN:VEVENT
DTSTART;TZID=Europe/Berlin:20240702T183000
DTEND;TZID=Europe/Berlin:20240702T200000
DTSTAMP:20260426T010852
CREATED:20240517T175518Z
LAST-MODIFIED:20240517T181951Z
UID:3536-1719945000-1719950400@schule-bruckerlache.de
SUMMARY:Elternabend zur Projektwoche
DESCRIPTION:Die Eltern werden zum Mit-Trommeln angeleitet.
URL:https://schule-bruckerlache.de/event/elternabend-zur-projektwoche/
END:VEVENT
BEGIN:VEVENT
DTSTART;TZID=Europe/Berlin:20240705T150000
DTEND;TZID=Europe/Berlin:20240705T180000
DTSTAMP:20260426T010852
CREATED:20240104T143638Z
LAST-MODIFIED:20240104T143638Z
UID:3417-1720191600-1720202400@schule-bruckerlache.de
SUMMARY:Sommerfest - Trommelzauber
DESCRIPTION:
URL:https://schule-bruckerlache.de/event/sommerfest-trommelzauber/
END:VEVENT
BEGIN:VEVENT
DTSTART;TZID=Europe/Berlin:20240710T090000
DTEND;TZID=Europe/Berlin:20240710T121500
DTSTAMP:20260426T010852
CREATED:20240104T143908Z
LAST-MODIFIED:20240104T143908Z
UID:3419-1720602000-1720613700@schule-bruckerlache.de
SUMMARY:Bundesjugendspiele
DESCRIPTION:Bei schlechtem Wetter finden sie am 16.07.2024 statt.
URL:https://schule-bruckerlache.de/event/bundesjugendspiele-7/
END:VEVENT
BEGIN:VEVENT
DTSTART;VALUE=DATE:20240711
DTEND;VALUE=DATE:20240712
DTSTAMP:20260426T010852
CREATED:20240104T144002Z
LAST-MODIFIED:20240104T144002Z
UID:3421-1720656000-1720742399@schule-bruckerlache.de
SUMMARY:Spielefest der 1. Klassen
DESCRIPTION:
URL:https://schule-bruckerlache.de/event/spielefest-der-1-klassen/
END:VEVENT
BEGIN:VEVENT
DTSTART;VALUE=DATE:20240712
DTEND;VALUE=DATE:20240713
DTSTAMP:20260426T010852
CREATED:20240104T144106Z
LAST-MODIFIED:20240104T144106Z
UID:3423-1720742400-1720828799@schule-bruckerlache.de
SUMMARY:Fußballturnier zwischen den 3. und 4. Klassen
DESCRIPTION:
URL:https://schule-bruckerlache.de/event/fussballturnier-zwischen-den-3-und-4-klassen/
END:VEVENT
BEGIN:VEVENT
DTSTART;VALUE=DATE:20240719
DTEND;VALUE=DATE:20240720
DTSTAMP:20260426T010852
CREATED:20240413T064653Z
LAST-MODIFIED:20240413T064653Z
UID:3527-1721347200-1721433599@schule-bruckerlache.de
SUMMARY:Schülertriathlon 2024
DESCRIPTION:
URL:https://schule-bruckerlache.de/event/schuelertriathlon-2024/
END:VEVENT
BEGIN:VEVENT
DTSTART;TZID=Europe/Berlin:20240723T080000
DTEND;TZID=Europe/Berlin:20240723T140000
DTSTAMP:20260426T010852
CREATED:20240413T064548Z
LAST-MODIFIED:20240720T140623Z
UID:3525-1721721600-1721743200@schule-bruckerlache.de
SUMMARY:Schulausflug nach Hundshaupten
DESCRIPTION:Wir treffen uns normal zu Schulbeginn und fahren mit Bussen hin und zurück. Unsere Rückkehr ist um 14:00 Uhr geplant. \n\nDie Kinder benötigen an diesem Tag einen Rucksack mit Essen und Trinken.\nBitte geben Sie Ihrem Kind eine Plastiktüte mit in den Rucksack\, falls es ihm übel wird.\nWenn Sie Ihrem Kind Geld für ein Eis oder ein Andenken mitgeben wollen\, dann geben Sie bitte nicht mehr als 5 € mit!\nZiehen Sie Ihrem Kind wedtterangepasste Kleidung an. Wir fahren bei jedem Wetter!\nBei schönem Wetter cremen Sie bitte Ihr Kind ein\, bevor Sie es zu Schule schicken!\n\nWir freuen uns auf einen schönen und erlebnisreichen Tag!
URL:https://schule-bruckerlache.de/event/schulausflug-nach-hundshaupten-2/
END:VEVENT
BEGIN:VEVENT
DTSTART;TZID=Europe/Berlin:20240724T100000
DTEND;TZID=Europe/Berlin:20240724T103000
DTSTAMP:20260426T010852
CREATED:20240517T175111Z
LAST-MODIFIED:20240517T175111Z
UID:3531-1721815200-1721817000@schule-bruckerlache.de
SUMMARY:Abschlussgottesdienst
DESCRIPTION:
URL:https://schule-bruckerlache.de/event/abschlussgottesdienst-7/
END:VEVENT
BEGIN:VEVENT
DTSTART;TZID=Europe/Berlin:20240726T093000
DTEND;TZID=Europe/Berlin:20240726T111500
DTSTAMP:20260426T010852
CREATED:20240104T144323Z
LAST-MODIFIED:20240104T144323Z
UID:3425-1721986200-1721992500@schule-bruckerlache.de
SUMMARY:Letzter Schultag / Abschlussfeier / Zeugnisausgabe
DESCRIPTION:
URL:https://schule-bruckerlache.de/event/letzter-schultag-abschlussfeier-zeugnisausgabe-7/
END:VEVENT
END:VCALENDAR