BEGIN:VCALENDAR
VERSION:2.0
PRODID:-//Grundschule an der Brucker Lache - ECPv6.11.2.1//NONSGML v1.0//EN
CALSCALE:GREGORIAN
METHOD:PUBLISH
X-ORIGINAL-URL:https://schule-bruckerlache.de
X-WR-CALDESC:Veranstaltungen für Grundschule an der Brucker Lache
REFRESH-INTERVAL;VALUE=DURATION:PT1H
X-Robots-Tag:noindex
X-PUBLISHED-TTL:PT1H
BEGIN:VTIMEZONE
TZID:Europe/Berlin
BEGIN:DAYLIGHT
TZOFFSETFROM:+0100
TZOFFSETTO:+0200
TZNAME:CEST
DTSTART:20260329T010000
END:DAYLIGHT
BEGIN:STANDARD
TZOFFSETFROM:+0200
TZOFFSETTO:+0100
TZNAME:CET
DTSTART:20261025T010000
END:STANDARD
END:VTIMEZONE
BEGIN:VEVENT
DTSTART;TZID=Europe/Berlin:20260420T100000
DTEND;TZID=Europe/Berlin:20260424T102000
DTSTAMP:20260422T155713
CREATED:20250928T092700Z
LAST-MODIFIED:20250928T092700Z
UID:4074-1776679200-1777026000@schule-bruckerlache.de
SUMMARY:Lesewoche 2025 mit Büchervorstellung mit Frau Wiese-Käppner
DESCRIPTION:Jeder Lehrer liest ein Buch vor.
URL:https://schule-bruckerlache.de/event/lesewoche-2025-mit-buechervorstellung-mit-frau-wiese-kaeppner/
END:VEVENT
BEGIN:VEVENT
DTSTART;VALUE=DATE:20260427
DTEND;VALUE=DATE:20260509
DTSTAMP:20260422T155713
CREATED:20250928T092829Z
LAST-MODIFIED:20250928T092829Z
UID:4076-1777248000-1778284799@schule-bruckerlache.de
SUMMARY:Vera - Test I Deutsch in der 3. Klasse
DESCRIPTION:
URL:https://schule-bruckerlache.de/event/vera-test-i-deutsch-in-der-3-klasse-5/
END:VEVENT
BEGIN:VEVENT
DTSTART;VALUE=DATE:20260427
DTEND;VALUE=DATE:20260509
DTSTAMP:20260422T155713
CREATED:20250928T092957Z
LAST-MODIFIED:20250928T092957Z
UID:4078-1777248000-1778284799@schule-bruckerlache.de
SUMMARY:Vera - Test II Deutsch in der 3. Klasse
DESCRIPTION:
URL:https://schule-bruckerlache.de/event/vera-test-ii-deutsch-in-der-3-klasse-5/
END:VEVENT
BEGIN:VEVENT
DTSTART;VALUE=DATE:20260427
DTEND;VALUE=DATE:20260509
DTSTAMP:20260422T155713
CREATED:20250928T093103Z
LAST-MODIFIED:20250928T093103Z
UID:4080-1777248000-1778284799@schule-bruckerlache.de
SUMMARY:Vera - Test Mathematik in der 3. Klasse
DESCRIPTION:
URL:https://schule-bruckerlache.de/event/vera-test-mathematik-in-der-3-klasse-9/
END:VEVENT
BEGIN:VEVENT
DTSTART;VALUE=DATE:20260427
DTEND;VALUE=DATE:20260509
DTSTAMP:20260422T155713
CREATED:20250928T093431Z
LAST-MODIFIED:20250928T093431Z
UID:4082-1777248000-1778284799@schule-bruckerlache.de
SUMMARY:Orientierungsarbeiten in der 2. Klasse
DESCRIPTION:
URL:https://schule-bruckerlache.de/event/orientierungsarbeiten-in-der-2-klasse-9/
END:VEVENT
BEGIN:VEVENT
DTSTART;VALUE=DATE:20260504
DTEND;VALUE=DATE:20260505
DTSTAMP:20260422T155713
CREATED:20250928T093522Z
LAST-MODIFIED:20250928T093522Z
UID:4084-1777852800-1777939199@schule-bruckerlache.de
SUMMARY:Ausgabe der Übertrittszeugnisse der 4. Klassen
DESCRIPTION:
URL:https://schule-bruckerlache.de/event/ausgabe-der-uebertrittszeugnisse-der-4-klassen-6/
END:VEVENT
BEGIN:VEVENT
DTSTART;VALUE=DATE:20260514
DTEND;VALUE=DATE:20260515
DTSTAMP:20260422T155713
CREATED:20250928T093632Z
LAST-MODIFIED:20250928T093632Z
UID:4086-1778716800-1778803199@schule-bruckerlache.de
SUMMARY:Feiertag - Christi Himmelfahrt - schulfrei
DESCRIPTION:
URL:https://schule-bruckerlache.de/event/feiertag-christi-himmelfahrt-schulfrei-7/
END:VEVENT
BEGIN:VEVENT
DTSTART;VALUE=DATE:20260518
DTEND;VALUE=DATE:20260522
DTSTAMP:20260422T155713
CREATED:20250928T093745Z
LAST-MODIFIED:20250928T093745Z
UID:4088-1779062400-1779407999@schule-bruckerlache.de
SUMMARY:Schullandheimaufenthalt der 2. Klassen Burg Feuerstein
DESCRIPTION:
URL:https://schule-bruckerlache.de/event/schullandheimaufenthalt-der-2-klassen-burg-feuerstein/
END:VEVENT
BEGIN:VEVENT
DTSTART;TZID=Europe/Berlin:20260519T080000
DTEND;TZID=Europe/Berlin:20260519T130000
DTSTAMP:20260422T155713
CREATED:20250928T093923Z
LAST-MODIFIED:20250928T093923Z
UID:4090-1779177600-1779195600@schule-bruckerlache.de
SUMMARY:Fahrradunterricht der Klasse 4a (GS-Dechsendorf)
DESCRIPTION:
URL:https://schule-bruckerlache.de/event/fahrradunterricht-der-klasse-4a-gs-dechsendorf/
END:VEVENT
BEGIN:VEVENT
DTSTART;TZID=Europe/Berlin:20260520T080000
DTEND;TZID=Europe/Berlin:20260520T130000
DTSTAMP:20260422T155713
CREATED:20250928T094033Z
LAST-MODIFIED:20250928T094033Z
UID:4092-1779264000-1779282000@schule-bruckerlache.de
SUMMARY:Fahrradunterricht der Klasse 4b (GS-Dechsendorf)
DESCRIPTION:
URL:https://schule-bruckerlache.de/event/fahrradunterricht-der-klasse-4b-gs-dechsendorf/
END:VEVENT
BEGIN:VEVENT
DTSTART;TZID=Europe/Berlin:20260521T080000
DTEND;TZID=Europe/Berlin:20260521T130000
DTSTAMP:20260422T155713
CREATED:20250928T094147Z
LAST-MODIFIED:20250928T094147Z
UID:4095-1779350400-1779368400@schule-bruckerlache.de
SUMMARY:Fahrradprüfung der Klasse 4c (GS-Dechsendorf)
DESCRIPTION:
URL:https://schule-bruckerlache.de/event/fahrradpruefung-der-klasse-4c-gs-dechsendorf/
END:VEVENT
BEGIN:VEVENT
DTSTART;TZID=Europe/Berlin:20260522T100000
DTEND;TZID=Europe/Berlin:20260522T110000
DTSTAMP:20260422T155713
CREATED:20250928T094246Z
LAST-MODIFIED:20250928T094246Z
UID:4097-1779444000-1779447600@schule-bruckerlache.de
SUMMARY:Aktionstag Musik
DESCRIPTION:
URL:https://schule-bruckerlache.de/event/aktionstag-musik/
END:VEVENT
BEGIN:VEVENT
DTSTART;TZID=Europe/Berlin:20260608T080000
DTEND;TZID=Europe/Berlin:20260608T130000
DTSTAMP:20260422T155713
CREATED:20250928T094423Z
LAST-MODIFIED:20250928T094423Z
UID:4099-1780905600-1780923600@schule-bruckerlache.de
SUMMARY:Fahrradprüfung der Klasse 4a (GS-Dechsendorf)
DESCRIPTION:
URL:https://schule-bruckerlache.de/event/fahrradpruefung-der-klasse-4a-gs-dechsendorf/
END:VEVENT
BEGIN:VEVENT
DTSTART;TZID=Europe/Berlin:20260609T080000
DTEND;TZID=Europe/Berlin:20260609T130000
DTSTAMP:20260422T155713
CREATED:20250928T094630Z
LAST-MODIFIED:20250928T094630Z
UID:4101-1780992000-1781010000@schule-bruckerlache.de
SUMMARY:Fahrradprüfung der Klasse 4b (GS-Dechsendorf)
DESCRIPTION:
URL:https://schule-bruckerlache.de/event/fahrradpruefung-der-klasse-4b-gs-dechsendorf/
END:VEVENT
BEGIN:VEVENT
DTSTART;TZID=Europe/Berlin:20260610T080000
DTEND;TZID=Europe/Berlin:20260610T130000
DTSTAMP:20260422T155713
CREATED:20250928T094754Z
LAST-MODIFIED:20250928T094754Z
UID:4103-1781078400-1781096400@schule-bruckerlache.de
SUMMARY:Fahrradprüfung der Klasse 4c (GS-Dechsendorf)
DESCRIPTION:
URL:https://schule-bruckerlache.de/event/fahrradpruefung-der-klasse-4c-gs-dechsendorf-2/
END:VEVENT
BEGIN:VEVENT
DTSTART;TZID=Europe/Berlin:20260611T170000
DTEND;TZID=Europe/Berlin:20260611T190000
DTSTAMP:20260422T155713
CREATED:20250928T094932Z
LAST-MODIFIED:20250928T094932Z
UID:4105-1781197200-1781204400@schule-bruckerlache.de
SUMMARY:2. Elternsprechtag für die 3. Klassen
DESCRIPTION:
URL:https://schule-bruckerlache.de/event/2-elternsprechtag-fuer-die-3-klassen-9/
END:VEVENT
BEGIN:VEVENT
DTSTART;VALUE=DATE:20260615
DTEND;VALUE=DATE:20260620
DTSTAMP:20260422T155713
CREATED:20250928T095133Z
LAST-MODIFIED:20250928T100337Z
UID:4107-1781481600-1781913599@schule-bruckerlache.de
SUMMARY:Projektwoche 2026 Thema: Zirkus
DESCRIPTION:
URL:https://schule-bruckerlache.de/event/projektwoche-2025-thema-zirkus/
END:VEVENT
BEGIN:VEVENT
DTSTART;TZID=Europe/Berlin:20260617T080000
DTEND;TZID=Europe/Berlin:20260617T130000
DTSTAMP:20260422T155713
CREATED:20250928T095416Z
LAST-MODIFIED:20250928T095416Z
UID:4111-1781683200-1781701200@schule-bruckerlache.de
SUMMARY:Fahrradnachprüfung Klasse 4 a/b/c
DESCRIPTION:
URL:https://schule-bruckerlache.de/event/fahrradnachpruefung-klasse-4-a-b-c-3/
END:VEVENT
BEGIN:VEVENT
DTSTART;TZID=Europe/Berlin:20260619T150000
DTEND;TZID=Europe/Berlin:20260619T180000
DTSTAMP:20260422T155713
CREATED:20250928T095248Z
LAST-MODIFIED:20250928T095248Z
UID:4109-1781881200-1781892000@schule-bruckerlache.de
SUMMARY:Schulfest 2026
DESCRIPTION:
URL:https://schule-bruckerlache.de/event/schulfest-2026/
END:VEVENT
BEGIN:VEVENT
DTSTART;TZID=Europe/Berlin:20260707T100000
DTEND;TZID=Europe/Berlin:20260707T110000
DTSTAMP:20260422T155713
CREATED:20250928T095549Z
LAST-MODIFIED:20250928T095549Z
UID:4113-1783418400-1783422000@schule-bruckerlache.de
SUMMARY:Spielefest der 1. Klassen
DESCRIPTION:
URL:https://schule-bruckerlache.de/event/spielefest-der-1-klassen-3/
END:VEVENT
BEGIN:VEVENT
DTSTART;TZID=Europe/Berlin:20260708T093000
DTEND;TZID=Europe/Berlin:20260708T121500
DTSTAMP:20260422T155713
CREATED:20250928T095710Z
LAST-MODIFIED:20250928T095710Z
UID:4115-1783503000-1783512900@schule-bruckerlache.de
SUMMARY:Bundesjugendspiele
DESCRIPTION:bei schlechtem Wetter 15.07.26
URL:https://schule-bruckerlache.de/event/bundesjugendspiele-9/
END:VEVENT
BEGIN:VEVENT
DTSTART;TZID=Europe/Berlin:20260717T090000
DTEND;TZID=Europe/Berlin:20260717T121500
DTSTAMP:20260422T155713
CREATED:20250928T095857Z
LAST-MODIFIED:20250928T095857Z
UID:4117-1784278800-1784290500@schule-bruckerlache.de
SUMMARY:Fußballturnier zwischen den 3. und 4. Klassen
DESCRIPTION:
URL:https://schule-bruckerlache.de/event/fussballturnier-zwischen-den-3-und-4-klassen-3/
END:VEVENT
BEGIN:VEVENT
DTSTART;TZID=Europe/Berlin:20260720T081500
DTEND;TZID=Europe/Berlin:20260720T143000
DTSTAMP:20260422T155713
CREATED:20250928T100033Z
LAST-MODIFIED:20250928T100033Z
UID:4119-1784535300-1784557800@schule-bruckerlache.de
SUMMARY:Schulausflug - Erfahrungsfeld der Sinne in Nürnberg
DESCRIPTION:
URL:https://schule-bruckerlache.de/event/schulausflug-erfahrungsfeld-der-sinne-in-nuernberg/
END:VEVENT
BEGIN:VEVENT
DTSTART;VALUE=DATE:20260724
DTEND;VALUE=DATE:20260725
DTSTAMP:20260422T155713
CREATED:20250928T100132Z
LAST-MODIFIED:20250928T100132Z
UID:4121-1784851200-1784937599@schule-bruckerlache.de
SUMMARY:Schülertriathlon
DESCRIPTION:
URL:https://schule-bruckerlache.de/event/schuelertriathlon-2/
END:VEVENT
BEGIN:VEVENT
DTSTART;TZID=Europe/Berlin:20260731T080000
DTEND;TZID=Europe/Berlin:20260731T111500
DTSTAMP:20260422T155713
CREATED:20250928T100249Z
LAST-MODIFIED:20250928T100249Z
UID:4123-1785484800-1785496500@schule-bruckerlache.de
SUMMARY:Letzter Schultag / Abschlussfeier / Zeugnisausgabe
DESCRIPTION:
URL:https://schule-bruckerlache.de/event/letzter-schultag-abschlussfeier-zeugnisausgabe-9/
END:VEVENT
END:VCALENDAR