BEGIN:VCALENDAR
VERSION:2.0
PRODID:-//Grundschule an der Brucker Lache - ECPv6.11.2.1//NONSGML v1.0//EN
CALSCALE:GREGORIAN
METHOD:PUBLISH
X-WR-CALNAME:Grundschule an der Brucker Lache
X-ORIGINAL-URL:https://schule-bruckerlache.de
X-WR-CALDESC:Veranstaltungen für Grundschule an der Brucker Lache
REFRESH-INTERVAL;VALUE=DURATION:PT1H
X-Robots-Tag:noindex
X-PUBLISHED-TTL:PT1H
BEGIN:VTIMEZONE
TZID:Europe/Berlin
BEGIN:DAYLIGHT
TZOFFSETFROM:+0100
TZOFFSETTO:+0200
TZNAME:CEST
DTSTART:20250330T010000
END:DAYLIGHT
BEGIN:STANDARD
TZOFFSETFROM:+0200
TZOFFSETTO:+0100
TZNAME:CET
DTSTART:20251026T010000
END:STANDARD
BEGIN:DAYLIGHT
TZOFFSETFROM:+0100
TZOFFSETTO:+0200
TZNAME:CEST
DTSTART:20260329T010000
END:DAYLIGHT
BEGIN:STANDARD
TZOFFSETFROM:+0200
TZOFFSETTO:+0100
TZNAME:CET
DTSTART:20261025T010000
END:STANDARD
END:VTIMEZONE
BEGIN:VEVENT
DTSTART;TZID=Europe/Berlin:20260325T170000
DTEND;TZID=Europe/Berlin:20260325T190000
DTSTAMP:20260422T172753
CREATED:20250928T092335Z
LAST-MODIFIED:20250928T092335Z
UID:4072-1774458000-1774465200@schule-bruckerlache.de
SUMMARY:2. Elternsprechtag der 4. Klassen
DESCRIPTION:
URL:https://schule-bruckerlache.de/event/2-elternsprechtag-der-4-klassen-8/
END:VEVENT
BEGIN:VEVENT
DTSTART;VALUE=DATE:20260321
DTEND;VALUE=DATE:20260322
DTSTAMP:20260422T172753
CREATED:20250928T092027Z
LAST-MODIFIED:20250928T092027Z
UID:4070-1774051200-1774137599@schule-bruckerlache.de
SUMMARY:Winterwaldlauf - Siemens mit Unterstützung vom Elternbeirat
DESCRIPTION:
URL:https://schule-bruckerlache.de/event/winterwaldlauf-siemens-mit-unterstuetzung-vom-elternbeirat-2/
END:VEVENT
BEGIN:VEVENT
DTSTART;VALUE=DATE:20260319
DTEND;VALUE=DATE:20260320
DTSTAMP:20260422T172753
CREATED:20250928T091859Z
LAST-MODIFIED:20250928T091859Z
UID:4068-1773878400-1773964799@schule-bruckerlache.de
SUMMARY:Känguru 3. / 4. Klasse
DESCRIPTION:
URL:https://schule-bruckerlache.de/event/kaenguru-3-4-klasse/
END:VEVENT
BEGIN:VEVENT
DTSTART;TZID=Europe/Berlin:20260312T180000
DTEND;TZID=Europe/Berlin:20260312T193000
DTSTAMP:20260422T172753
CREATED:20250928T091722Z
LAST-MODIFIED:20260312T124328Z
UID:4066-1773338400-1773343800@schule-bruckerlache.de
SUMMARY:Infoabend für die 3. Klassen (Wege im Bayrischen Schulsystem)
DESCRIPTION:
URL:https://schule-bruckerlache.de/event/infoabend-fuer-die-3-klassen-wege-im-bayrischen-schulsystem-2/
END:VEVENT
BEGIN:VEVENT
DTSTART;TZID=Europe/Berlin:20260303T120000
DTEND;TZID=Europe/Berlin:20260303T170000
DTSTAMP:20260422T172753
CREATED:20250928T091507Z
LAST-MODIFIED:20250928T091507Z
UID:4064-1772539200-1772557200@schule-bruckerlache.de
SUMMARY:Schulanmeldung für das Schuljahr 2026/27
DESCRIPTION:
URL:https://schule-bruckerlache.de/event/schulanmeldung-fuer-das-schuljahr-2026-27/
END:VEVENT
BEGIN:VEVENT
DTSTART;TZID=Europe/Berlin:20260213T100000
DTEND;TZID=Europe/Berlin:20260213T103000
DTSTAMP:20260422T172753
CREATED:20260201T124857Z
LAST-MODIFIED:20260201T124857Z
UID:4239-1770976800-1770978600@schule-bruckerlache.de
SUMMARY:Auftritt der Faschingsgarde
DESCRIPTION:Danach werden noch Faschingskrapfen an die Schüler verteilt vom Elternbeirat.
URL:https://schule-bruckerlache.de/event/auftritt-der-faschingsgarde/
END:VEVENT
BEGIN:VEVENT
DTSTART;VALUE=DATE:20260213
DTEND;VALUE=DATE:20260214
DTSTAMP:20260422T172753
CREATED:20250928T091340Z
LAST-MODIFIED:20250928T091340Z
UID:4062-1770940800-1771027199@schule-bruckerlache.de
SUMMARY:Ausgabe der Zwischenzeugnisse
DESCRIPTION:
URL:https://schule-bruckerlache.de/event/ausgabe-der-zwischenzeugnisse-9/
END:VEVENT
BEGIN:VEVENT
DTSTART;TZID=Europe/Berlin:20260206T100000
DTEND;TZID=Europe/Berlin:20260206T110000
DTSTAMP:20260422T172753
CREATED:20260201T124535Z
LAST-MODIFIED:20260201T124535Z
UID:4237-1770372000-1770375600@schule-bruckerlache.de
SUMMARY:Besuch des Kinderliedermachers Geraldino
DESCRIPTION:
URL:https://schule-bruckerlache.de/event/besuch-des-kinderliedermachers-geraldino/
END:VEVENT
BEGIN:VEVENT
DTSTART;VALUE=DATE:20260123
DTEND;VALUE=DATE:20260124
DTSTAMP:20260422T172753
CREATED:20250928T091232Z
LAST-MODIFIED:20250928T091232Z
UID:4060-1769126400-1769212799@schule-bruckerlache.de
SUMMARY:Zwischeninformation für die 4. Klassen
DESCRIPTION:
URL:https://schule-bruckerlache.de/event/zwischeninformation-fuer-die-4-klassen-10/
END:VEVENT
BEGIN:VEVENT
DTSTART;TZID=Europe/Berlin:20260122T180000
DTEND;TZID=Europe/Berlin:20260122T193000
DTSTAMP:20260422T172753
CREATED:20250928T091132Z
LAST-MODIFIED:20251222T165245Z
UID:4058-1769104800-1769110200@schule-bruckerlache.de
SUMMARY:Elternabend für die Schulanfänger
DESCRIPTION:Terminverschiebung :vom 21. Januar 2026 auf den 22. Januar 2026.
URL:https://schule-bruckerlache.de/event/elternabend-fuer-die-schulanfaenger-8/
END:VEVENT
BEGIN:VEVENT
DTSTART;VALUE=DATE:20260119
DTEND;VALUE=DATE:20260120
DTSTAMP:20260422T172753
CREATED:20250928T091024Z
LAST-MODIFIED:20250929T141810Z
UID:4056-1768780800-1768867199@schule-bruckerlache.de
SUMMARY:Lernentwicklungsgespräche in den 1. und 2. Klassen
DESCRIPTION:Die Gespräche im Zeitraum von 19. Januar bis zum 6. Februar statt. \nBitte vereinbaren Sie vorher ein Gesprächstermin mit den Klassenlehrerinnen in dem Zeitraum.
URL:https://schule-bruckerlache.de/event/lernentwicklungsgespraeche-in-den-1-und-2-klassen-5/
END:VEVENT
BEGIN:VEVENT
DTSTART;TZID=Europe/Berlin:20260115T180000
DTEND;TZID=Europe/Berlin:20260115T190000
DTSTAMP:20260422T172753
CREATED:20250928T090634Z
LAST-MODIFIED:20250928T090634Z
UID:4054-1768500000-1768503600@schule-bruckerlache.de
SUMMARY:Elternabend zum Lernentwicklungsgespräch
DESCRIPTION:
URL:https://schule-bruckerlache.de/event/elternabend-zum-lernentwicklungsgespraech-7/
END:VEVENT
BEGIN:VEVENT
DTSTART;TZID=Europe/Berlin:20260114T183000
DTEND;TZID=Europe/Berlin:20260114T193000
DTSTAMP:20260422T172753
CREATED:20250928T090524Z
LAST-MODIFIED:20250928T090524Z
UID:4052-1768415400-1768419000@schule-bruckerlache.de
SUMMARY:Elternabend zum Schullandheim für die 2. Klassen
DESCRIPTION:
URL:https://schule-bruckerlache.de/event/elternabend-zum-schullandheim-fuer-die-2-klassen-3/
END:VEVENT
BEGIN:VEVENT
DTSTART;TZID=Europe/Berlin:20251219T100000
DTEND;TZID=Europe/Berlin:20251219T110000
DTSTAMP:20260422T172753
CREATED:20250928T090404Z
LAST-MODIFIED:20250928T090404Z
UID:4050-1766138400-1766142000@schule-bruckerlache.de
SUMMARY:Weihnachtsfeier gestaltet von den 4. Klassen
DESCRIPTION:
URL:https://schule-bruckerlache.de/event/weihnachtsfeier-gestaltet-von-den-4-klassen/
END:VEVENT
BEGIN:VEVENT
DTSTART;TZID=Europe/Berlin:20251208T090000
DTEND;TZID=Europe/Berlin:20251208T111500
DTSTAMP:20260422T172753
CREATED:20250928T090120Z
LAST-MODIFIED:20250928T090120Z
UID:4046-1765184400-1765192500@schule-bruckerlache.de
SUMMARY:Nikolausbesuch
DESCRIPTION:
URL:https://schule-bruckerlache.de/event/nikolausbesuch-3/
END:VEVENT
BEGIN:VEVENT
DTSTART;TZID=Europe/Berlin:20251208T080000
DTEND;TZID=Europe/Berlin:20251208T083000
DTSTAMP:20260422T172753
CREATED:20250928T090222Z
LAST-MODIFIED:20250928T090222Z
UID:4048-1765180800-1765182600@schule-bruckerlache.de
SUMMARY:Adventsfeier gestaltet von den 1. / 2. Klassen
DESCRIPTION:
URL:https://schule-bruckerlache.de/event/adventsfeier-gestaltet-von-den-1-2-klassen/
END:VEVENT
BEGIN:VEVENT
DTSTART;VALUE=DATE:20251204
DTEND;VALUE=DATE:20251205
DTSTAMP:20260422T172753
CREATED:20250928T085939Z
LAST-MODIFIED:20250928T085939Z
UID:4044-1764806400-1764892799@schule-bruckerlache.de
SUMMARY:Mittelfränkische Mathemeisterschaft (3. Runde)
DESCRIPTION:
URL:https://schule-bruckerlache.de/event/mittelfraenkische-mathemeisterschaft-3-runde/
END:VEVENT
BEGIN:VEVENT
DTSTART;TZID=Europe/Berlin:20251201T080000
DTEND;TZID=Europe/Berlin:20251201T083000
DTSTAMP:20260422T172753
CREATED:20250928T085652Z
LAST-MODIFIED:20250928T085652Z
UID:4038-1764576000-1764577800@schule-bruckerlache.de
SUMMARY:Adventsfeier gestaltet von den 3. Klassen
DESCRIPTION:
URL:https://schule-bruckerlache.de/event/adventsfeier-gestaltet-von-den-3-klassen/
END:VEVENT
BEGIN:VEVENT
DTSTART;TZID=Europe/Berlin:20251124T090000
DTEND;TZID=Europe/Berlin:20251124T130000
DTSTAMP:20260422T172753
CREATED:20251115T155910Z
LAST-MODIFIED:20251115T155910Z
UID:4173-1763974800-1763989200@schule-bruckerlache.de
SUMMARY:Besuch des Markgrafentheaters
DESCRIPTION:Um 9 Uhr besuchen die Klassen 1c/ 2a/ 2b/ 2c/ 3c/ 4a das Theater.\nUm 11 Uhr besuchen die Klassen 1a/1b/ 3a/ 3b/ 4b/ 4c das Theater. \nDer Zauber von Oz Familienstück von Sergej Gößner\, basierend auf dem Roman von L. Frank Baum (ab 5) \nWenn Papa Nachtschicht hat\, spielt Doro heimlich Smaragdcity – bis eines Nachts ein Ballon sie ins magische Land Oz bringt. Um nach Hause zu kommen\, muss sie Smaragde sammeln und zum Zauberer bringen. Doch zum Glück nicht allein! Gemeinsam mit dem Strohmann ohne Hirn\, der Blechfrau ohne Herz und dem Löwen ohne Mähne kämpft sie sich durch die Level. Ein Magisches Oz-Abenteuer frei nach dem Kinderbuchklassiker.
URL:https://schule-bruckerlache.de/event/besuch-des-markgrafentheaters/
END:VEVENT
BEGIN:VEVENT
DTSTART;VALUE=DATE:20251121
DTEND;VALUE=DATE:20251122
DTSTAMP:20260422T172753
CREATED:20250928T085524Z
LAST-MODIFIED:20250928T085524Z
UID:4036-1763683200-1763769599@schule-bruckerlache.de
SUMMARY:Vorlesetag (Motto 2025: "Vorlesen spricht Deine Sprache")
DESCRIPTION:
URL:https://schule-bruckerlache.de/event/vorlesetag-motto-2025-vorlesen-spricht-deine-sprache/
END:VEVENT
BEGIN:VEVENT
DTSTART;VALUE=DATE:20251119
DTEND;VALUE=DATE:20251120
DTSTAMP:20260422T172753
CREATED:20250928T085157Z
LAST-MODIFIED:20250928T085157Z
UID:4032-1763510400-1763596799@schule-bruckerlache.de
SUMMARY:Buß & Bettag - schulfrei
DESCRIPTION:
URL:https://schule-bruckerlache.de/event/buss-bettag-schulfrei-7/
END:VEVENT
BEGIN:VEVENT
DTSTART;TZID=Europe/Berlin:20251118T170000
DTEND;TZID=Europe/Berlin:20251118T190000
DTSTAMP:20260422T172753
CREATED:20250928T084941Z
LAST-MODIFIED:20250928T084941Z
UID:4030-1763485200-1763492400@schule-bruckerlache.de
SUMMARY:1. Elternsprechtag für die 1. - 4. Klassen
DESCRIPTION:
URL:https://schule-bruckerlache.de/event/1-elternsprechtag-fuer-die-1-4-klassen-10/
END:VEVENT
BEGIN:VEVENT
DTSTART;VALUE=DATE:20251113
DTEND;VALUE=DATE:20251114
DTSTAMP:20260422T172753
CREATED:20250928T084722Z
LAST-MODIFIED:20250928T084722Z
UID:4028-1762992000-1763078399@schule-bruckerlache.de
SUMMARY:Mittelfränkische Mathemeisterschaft (2. Runde)
DESCRIPTION:
URL:https://schule-bruckerlache.de/event/mittelfraenkische-mathemeisterschaft-2-runde-3/
END:VEVENT
BEGIN:VEVENT
DTSTART;TZID=Europe/Berlin:20251112T170000
DTEND;TZID=Europe/Berlin:20251112T183000
DTSTAMP:20260422T172753
CREATED:20250928T084625Z
LAST-MODIFIED:20250928T084625Z
UID:4026-1762966800-1762972200@schule-bruckerlache.de
SUMMARY:Martinsfeier mit Umzug
DESCRIPTION:Treffen um 17:00 Uhr im Klassenzimmer.
URL:https://schule-bruckerlache.de/event/martinsfeier-mit-umzug-10/
END:VEVENT
BEGIN:VEVENT
DTSTART;TZID=Europe/Berlin:20251027T183000
DTEND;TZID=Europe/Berlin:20251027T193000
DTSTAMP:20260422T172753
CREATED:20250917T164352Z
LAST-MODIFIED:20251006T162512Z
UID:4015-1761589800-1761593400@schule-bruckerlache.de
SUMMARY:Elternabend zum Thema Übertritt für die 4. Klassen
DESCRIPTION:
URL:https://schule-bruckerlache.de/event/elternabend-zum-thema-uebertritt-fuer-die-4-klassen/
END:VEVENT
BEGIN:VEVENT
DTSTART;VALUE=DATE:20251025
DTEND;VALUE=DATE:20251026
DTSTAMP:20260422T172753
CREATED:20250929T142553Z
LAST-MODIFIED:20250929T142553Z
UID:4130-1761350400-1761436799@schule-bruckerlache.de
SUMMARY:Wald-Aktionsspiel 1c / 1a (Eltern-Kind-Aktion)
DESCRIPTION:1c beginnt um 9:00 Uhr. \n1a beginnt um 11:30 Uhr. \nDie Aktion findet mit Frau Hamper statt.
URL:https://schule-bruckerlache.de/event/wald-aktionsspiel-1c-1a-eltern-kind-aktion/
END:VEVENT
BEGIN:VEVENT
DTSTART;TZID=Europe/Berlin:20251023T180000
DTEND;TZID=Europe/Berlin:20251023T193000
DTSTAMP:20260422T172753
CREATED:20250917T164516Z
LAST-MODIFIED:20250917T164516Z
UID:4017-1761242400-1761247800@schule-bruckerlache.de
SUMMARY:Elternabend: Jugendprävention "Online Gewalt"
DESCRIPTION:
URL:https://schule-bruckerlache.de/event/elternabend-jugendpraevention-online-gewalt/
END:VEVENT
BEGIN:VEVENT
DTSTART;TZID=Europe/Berlin:20251011T080000
DTEND;TZID=Europe/Berlin:20251011T130000
DTSTAMP:20260422T172753
CREATED:20250917T164137Z
LAST-MODIFIED:20250929T142156Z
UID:4013-1760169600-1760187600@schule-bruckerlache.de
SUMMARY:Wald-Aktionspiel 1b / 2a (Eltern-Kind-Aktion)
DESCRIPTION:Klasse 1b beginnt um 9:00 Uhr. \nKlasse 2a beginnt um 11:00 Uhr. \nDie Waldaktion findet mit Frau Hamper statt. \n 
URL:https://schule-bruckerlache.de/event/wald-aktionspiel-1a-1b-1c-eltern-kind-aktion/
END:VEVENT
BEGIN:VEVENT
DTSTART;TZID=Europe/Berlin:20251009T094500
DTEND;TZID=Europe/Berlin:20251009T111500
DTSTAMP:20260422T172753
CREATED:20250917T163906Z
LAST-MODIFIED:20250917T163906Z
UID:4011-1760003100-1760008500@schule-bruckerlache.de
SUMMARY:Aktion "Sauberer Wald / Stadt"
DESCRIPTION:Unterrichtsschluss an diesem Tag um 11:15 Uhr.
URL:https://schule-bruckerlache.de/event/aktion-sauberer-wald-stadt/
END:VEVENT
BEGIN:VEVENT
DTSTART;TZID=Europe/Berlin:20251008T080000
DTEND;TZID=Europe/Berlin:20251008T090000
DTSTAMP:20260422T172753
CREATED:20250917T163710Z
LAST-MODIFIED:20250917T163710Z
UID:4009-1759910400-1759914000@schule-bruckerlache.de
SUMMARY:Erntedankfeier
DESCRIPTION:
URL:https://schule-bruckerlache.de/event/erntedankfeier-5/
END:VEVENT
END:VCALENDAR