BEGIN:VCALENDAR
VERSION:2.0
PRODID:-//Grundschule an der Brucker Lache - ECPv6.11.2.1//NONSGML v1.0//EN
CALSCALE:GREGORIAN
METHOD:PUBLISH
X-ORIGINAL-URL:https://schule-bruckerlache.de
X-WR-CALDESC:Veranstaltungen für Grundschule an der Brucker Lache
REFRESH-INTERVAL;VALUE=DURATION:PT1H
X-Robots-Tag:noindex
X-PUBLISHED-TTL:PT1H
BEGIN:VTIMEZONE
TZID:Europe/Berlin
BEGIN:DAYLIGHT
TZOFFSETFROM:+0100
TZOFFSETTO:+0200
TZNAME:CEST
DTSTART:20260329T010000
END:DAYLIGHT
BEGIN:STANDARD
TZOFFSETFROM:+0200
TZOFFSETTO:+0100
TZNAME:CET
DTSTART:20261025T010000
END:STANDARD
END:VTIMEZONE
BEGIN:VEVENT
DTSTART;TZID=Europe/Berlin:20260720T081500
DTEND;TZID=Europe/Berlin:20260720T143000
DTSTAMP:20260423T001719
CREATED:20250928T100033Z
LAST-MODIFIED:20250928T100033Z
UID:4119-1784535300-1784557800@schule-bruckerlache.de
SUMMARY:Schulausflug - Erfahrungsfeld der Sinne in Nürnberg
DESCRIPTION:
URL:https://schule-bruckerlache.de/event/schulausflug-erfahrungsfeld-der-sinne-in-nuernberg/
END:VEVENT
END:VCALENDAR