BEGIN:VCALENDAR
VERSION:2.0
PRODID:-//Grundschule an der Brucker Lache - ECPv6.11.2.1//NONSGML v1.0//EN
CALSCALE:GREGORIAN
METHOD:PUBLISH
X-ORIGINAL-URL:https://schule-bruckerlache.de
X-WR-CALDESC:Veranstaltungen für Grundschule an der Brucker Lache
REFRESH-INTERVAL;VALUE=DURATION:PT1H
X-Robots-Tag:noindex
X-PUBLISHED-TTL:PT1H
BEGIN:VTIMEZONE
TZID:Europe/Berlin
BEGIN:DAYLIGHT
TZOFFSETFROM:+0100
TZOFFSETTO:+0200
TZNAME:CEST
DTSTART:20260329T010000
END:DAYLIGHT
BEGIN:STANDARD
TZOFFSETFROM:+0200
TZOFFSETTO:+0100
TZNAME:CET
DTSTART:20261025T010000
END:STANDARD
END:VTIMEZONE
BEGIN:VEVENT
DTSTART;VALUE=DATE:20260615
DTEND;VALUE=DATE:20260620
DTSTAMP:20260422T224145
CREATED:20250928T095133Z
LAST-MODIFIED:20250928T100337Z
UID:4107-1781481600-1781913599@schule-bruckerlache.de
SUMMARY:Projektwoche 2026 Thema: Zirkus
DESCRIPTION:
URL:https://schule-bruckerlache.de/event/projektwoche-2025-thema-zirkus/
END:VEVENT
BEGIN:VEVENT
DTSTART;TZID=Europe/Berlin:20260619T150000
DTEND;TZID=Europe/Berlin:20260619T180000
DTSTAMP:20260422T224145
CREATED:20250928T095248Z
LAST-MODIFIED:20250928T095248Z
UID:4109-1781881200-1781892000@schule-bruckerlache.de
SUMMARY:Schulfest 2026
DESCRIPTION:
URL:https://schule-bruckerlache.de/event/schulfest-2026/
END:VEVENT
END:VCALENDAR