BEGIN:VCALENDAR
VERSION:2.0
PRODID:-//Grundschule an der Brucker Lache - ECPv6.11.2.1//NONSGML v1.0//EN
CALSCALE:GREGORIAN
METHOD:PUBLISH
X-WR-CALNAME:Grundschule an der Brucker Lache
X-ORIGINAL-URL:https://schule-bruckerlache.de
X-WR-CALDESC:Veranstaltungen für Grundschule an der Brucker Lache
REFRESH-INTERVAL;VALUE=DURATION:PT1H
X-Robots-Tag:noindex
X-PUBLISHED-TTL:PT1H
BEGIN:VTIMEZONE
TZID:Europe/Berlin
BEGIN:DAYLIGHT
TZOFFSETFROM:+0100
TZOFFSETTO:+0200
TZNAME:CEST
DTSTART:20260329T010000
END:DAYLIGHT
BEGIN:STANDARD
TZOFFSETFROM:+0200
TZOFFSETTO:+0100
TZNAME:CET
DTSTART:20261025T010000
END:STANDARD
END:VTIMEZONE
BEGIN:VEVENT
DTSTART;VALUE=DATE:20260518
DTEND;VALUE=DATE:20260522
DTSTAMP:20260422T211316
CREATED:20250928T093745Z
LAST-MODIFIED:20250928T093745Z
UID:4088-1779062400-1779407999@schule-bruckerlache.de
SUMMARY:Schullandheimaufenthalt der 2. Klassen Burg Feuerstein
DESCRIPTION:
URL:https://schule-bruckerlache.de/event/schullandheimaufenthalt-der-2-klassen-burg-feuerstein/
END:VEVENT
BEGIN:VEVENT
DTSTART;TZID=Europe/Berlin:20260519T080000
DTEND;TZID=Europe/Berlin:20260519T130000
DTSTAMP:20260422T211316
CREATED:20250928T093923Z
LAST-MODIFIED:20250928T093923Z
UID:4090-1779177600-1779195600@schule-bruckerlache.de
SUMMARY:Fahrradunterricht der Klasse 4a (GS-Dechsendorf)
DESCRIPTION:
URL:https://schule-bruckerlache.de/event/fahrradunterricht-der-klasse-4a-gs-dechsendorf/
END:VEVENT
END:VCALENDAR