BEGIN:VCALENDAR
VERSION:2.0
PRODID:-//Grundschule an der Brucker Lache - ECPv6.11.2.1//NONSGML v1.0//EN
CALSCALE:GREGORIAN
METHOD:PUBLISH
X-ORIGINAL-URL:https://schule-bruckerlache.de
X-WR-CALDESC:Veranstaltungen für Grundschule an der Brucker Lache
REFRESH-INTERVAL;VALUE=DURATION:PT1H
X-Robots-Tag:noindex
X-PUBLISHED-TTL:PT1H
BEGIN:VTIMEZONE
TZID:Europe/Berlin
BEGIN:DAYLIGHT
TZOFFSETFROM:+0100
TZOFFSETTO:+0200
TZNAME:CEST
DTSTART:20260329T010000
END:DAYLIGHT
BEGIN:STANDARD
TZOFFSETFROM:+0200
TZOFFSETTO:+0100
TZNAME:CET
DTSTART:20261025T010000
END:STANDARD
END:VTIMEZONE
BEGIN:VEVENT
DTSTART;VALUE=DATE:20260427
DTEND;VALUE=DATE:20260509
DTSTAMP:20260422T211542
CREATED:20250928T092829Z
LAST-MODIFIED:20250928T092829Z
UID:4076-1777248000-1778284799@schule-bruckerlache.de
SUMMARY:Vera - Test I Deutsch in der 3. Klasse
DESCRIPTION:
URL:https://schule-bruckerlache.de/event/vera-test-i-deutsch-in-der-3-klasse-5/
END:VEVENT
BEGIN:VEVENT
DTSTART;VALUE=DATE:20260427
DTEND;VALUE=DATE:20260509
DTSTAMP:20260422T211542
CREATED:20250928T092957Z
LAST-MODIFIED:20250928T092957Z
UID:4078-1777248000-1778284799@schule-bruckerlache.de
SUMMARY:Vera - Test II Deutsch in der 3. Klasse
DESCRIPTION:
URL:https://schule-bruckerlache.de/event/vera-test-ii-deutsch-in-der-3-klasse-5/
END:VEVENT
BEGIN:VEVENT
DTSTART;VALUE=DATE:20260427
DTEND;VALUE=DATE:20260509
DTSTAMP:20260422T211542
CREATED:20250928T093103Z
LAST-MODIFIED:20250928T093103Z
UID:4080-1777248000-1778284799@schule-bruckerlache.de
SUMMARY:Vera - Test Mathematik in der 3. Klasse
DESCRIPTION:
URL:https://schule-bruckerlache.de/event/vera-test-mathematik-in-der-3-klasse-9/
END:VEVENT
BEGIN:VEVENT
DTSTART;VALUE=DATE:20260427
DTEND;VALUE=DATE:20260509
DTSTAMP:20260422T211542
CREATED:20250928T093431Z
LAST-MODIFIED:20250928T093431Z
UID:4082-1777248000-1778284799@schule-bruckerlache.de
SUMMARY:Orientierungsarbeiten in der 2. Klasse
DESCRIPTION:
URL:https://schule-bruckerlache.de/event/orientierungsarbeiten-in-der-2-klasse-9/
END:VEVENT
END:VCALENDAR