BEGIN:VCALENDAR
VERSION:2.0
PRODID:-//Grundschule an der Brucker Lache - ECPv6.11.2.1//NONSGML v1.0//EN
CALSCALE:GREGORIAN
METHOD:PUBLISH
X-ORIGINAL-URL:https://schule-bruckerlache.de
X-WR-CALDESC:Veranstaltungen für Grundschule an der Brucker Lache
REFRESH-INTERVAL;VALUE=DURATION:PT1H
X-Robots-Tag:noindex
X-PUBLISHED-TTL:PT1H
BEGIN:VTIMEZONE
TZID:Europe/Berlin
BEGIN:DAYLIGHT
TZOFFSETFROM:+0100
TZOFFSETTO:+0200
TZNAME:CEST
DTSTART:20250330T010000
END:DAYLIGHT
BEGIN:STANDARD
TZOFFSETFROM:+0200
TZOFFSETTO:+0100
TZNAME:CET
DTSTART:20251026T010000
END:STANDARD
END:VTIMEZONE
BEGIN:VEVENT
DTSTART;VALUE=DATE:20251025
DTEND;VALUE=DATE:20251026
DTSTAMP:20260423T053006
CREATED:20250929T142553Z
LAST-MODIFIED:20250929T142553Z
UID:4130-1761350400-1761436799@schule-bruckerlache.de
SUMMARY:Wald-Aktionsspiel 1c / 1a (Eltern-Kind-Aktion)
DESCRIPTION:1c beginnt um 9:00 Uhr. \n1a beginnt um 11:30 Uhr. \nDie Aktion findet mit Frau Hamper statt.
URL:https://schule-bruckerlache.de/event/wald-aktionsspiel-1c-1a-eltern-kind-aktion/
END:VEVENT
END:VCALENDAR