BEGIN:VCALENDAR
VERSION:2.0
PRODID:-//Grundschule an der Brucker Lache - ECPv6.11.2.1//NONSGML v1.0//EN
CALSCALE:GREGORIAN
METHOD:PUBLISH
X-ORIGINAL-URL:https://schule-bruckerlache.de
X-WR-CALDESC:Veranstaltungen für Grundschule an der Brucker Lache
REFRESH-INTERVAL;VALUE=DURATION:PT1H
X-Robots-Tag:noindex
X-PUBLISHED-TTL:PT1H
BEGIN:VTIMEZONE
TZID:Europe/Berlin
BEGIN:DAYLIGHT
TZOFFSETFROM:+0100
TZOFFSETTO:+0200
TZNAME:CEST
DTSTART:20250330T010000
END:DAYLIGHT
BEGIN:STANDARD
TZOFFSETFROM:+0200
TZOFFSETTO:+0100
TZNAME:CET
DTSTART:20251026T010000
END:STANDARD
END:VTIMEZONE
BEGIN:VEVENT
DTSTART;VALUE=DATE:20250929
DTEND;VALUE=DATE:20251011
DTSTAMP:20260423T070326
CREATED:20250917T153021Z
LAST-MODIFIED:20250917T153021Z
UID:3992-1759104000-1760140799@schule-bruckerlache.de
SUMMARY:Aktion "Zu Fuß zur Schule"
DESCRIPTION:
URL:https://schule-bruckerlache.de/event/aktion-zu-fuss-zur-schule-8/
END:VEVENT
BEGIN:VEVENT
DTSTART;TZID=Europe/Berlin:20250930T173000
DTEND;TZID=Europe/Berlin:20250930T183000
DTSTAMP:20260423T070326
CREATED:20250917T153219Z
LAST-MODIFIED:20250917T153219Z
UID:3994-1759253400-1759257000@schule-bruckerlache.de
SUMMARY:Elternbeiratswahl
DESCRIPTION:Treffen in der Aula.
URL:https://schule-bruckerlache.de/event/elternbeiratswahl/
END:VEVENT
BEGIN:VEVENT
DTSTART;TZID=Europe/Berlin:20250930T183000
DTEND;TZID=Europe/Berlin:20250930T193000
DTSTAMP:20260423T070326
CREATED:20250917T153344Z
LAST-MODIFIED:20250917T153344Z
UID:3996-1759257000-1759260600@schule-bruckerlache.de
SUMMARY:Elternabend für die Eltern der 2. - 4. Klassen
DESCRIPTION:
URL:https://schule-bruckerlache.de/event/elternabend-fuer-die-eltern-der-2-4-klassen/
END:VEVENT
END:VCALENDAR