BEGIN:VCALENDAR
VERSION:2.0
PRODID:-//Grundschule an der Brucker Lache - ECPv6.11.2.1//NONSGML v1.0//EN
CALSCALE:GREGORIAN
METHOD:PUBLISH
X-ORIGINAL-URL:https://schule-bruckerlache.de
X-WR-CALDESC:Veranstaltungen für Grundschule an der Brucker Lache
REFRESH-INTERVAL;VALUE=DURATION:PT1H
X-Robots-Tag:noindex
X-PUBLISHED-TTL:PT1H
BEGIN:VTIMEZONE
TZID:Europe/Berlin
BEGIN:DAYLIGHT
TZOFFSETFROM:+0100
TZOFFSETTO:+0200
TZNAME:CEST
DTSTART:20250330T010000
END:DAYLIGHT
BEGIN:STANDARD
TZOFFSETFROM:+0200
TZOFFSETTO:+0100
TZNAME:CET
DTSTART:20251026T010000
END:STANDARD
END:VTIMEZONE
BEGIN:VEVENT
DTSTART;TZID=Europe/Berlin:20250926T080000
DTEND;TZID=Europe/Berlin:20250926T110000
DTSTAMP:20260423T065742
CREATED:20250917T152640Z
LAST-MODIFIED:20250917T153731Z
UID:3990-1758873600-1758884400@schule-bruckerlache.de
SUMMARY:Besuch der Gärtnerei Menger Klasse 2c / 2b halb
DESCRIPTION:
URL:https://schule-bruckerlache.de/event/besuch-der-gaertnerei-menger-8/
END:VEVENT
END:VCALENDAR