BEGIN:VCALENDAR
VERSION:2.0
PRODID:-//Grundschule an der Brucker Lache - ECPv6.11.2.1//NONSGML v1.0//EN
CALSCALE:GREGORIAN
METHOD:PUBLISH
X-ORIGINAL-URL:https://schule-bruckerlache.de
X-WR-CALDESC:Veranstaltungen für Grundschule an der Brucker Lache
REFRESH-INTERVAL;VALUE=DURATION:PT1H
X-Robots-Tag:noindex
X-PUBLISHED-TTL:PT1H
BEGIN:VTIMEZONE
TZID:Europe/Berlin
BEGIN:DAYLIGHT
TZOFFSETFROM:+0100
TZOFFSETTO:+0200
TZNAME:CEST
DTSTART:20250330T010000
END:DAYLIGHT
BEGIN:STANDARD
TZOFFSETFROM:+0200
TZOFFSETTO:+0100
TZNAME:CET
DTSTART:20251026T010000
END:STANDARD
END:VTIMEZONE
BEGIN:VEVENT
DTSTART;TZID=Europe/Berlin:20250916T080000
DTEND;TZID=Europe/Berlin:20250916T111500
DTSTAMP:20260423T070526
CREATED:20250726T135152Z
LAST-MODIFIED:20250807T084038Z
UID:3925-1758009600-1758021300@schule-bruckerlache.de
SUMMARY:Erster Schultag im Schuljahr 2025/26
DESCRIPTION:Der erste Schultag beginnt für alle Zweit- bis Viertklässler am Dienstag\, den 16.09.2025 um 8:00 Uhr.\nAm Dienstag und Mittwoch endet der Unterricht um 11:15 Uhr\, danach wie im Stundenplan vermerkt. \nFür alle Schulneulinge und deren Eltern findet am Dienstag\, den 16.09.2025\, um 8:15 Uhr ein gemeinsamer Schulanfangsgottesdienst im Pfarrzentrum St. Marien statt.\nAnschließend (ca. 9:00 Uhr) begeben sich die Kinder und die Eltern in die Turnhalle zur Begrüßung. Der erste Unterrichtstag endet um 10:30 Uhr. \nDie Schüler erfahren\, über die Infotafel (Baum)\, in welchem Klassenzimmer sie erscheinen sollen.
URL:https://schule-bruckerlache.de/event/erster-schultag-im-schuljahr-2025-26/
END:VEVENT
END:VCALENDAR