BEGIN:VCALENDAR
VERSION:2.0
PRODID:-//Grundschule an der Brucker Lache - ECPv6.11.2.1//NONSGML v1.0//EN
CALSCALE:GREGORIAN
METHOD:PUBLISH
X-WR-CALNAME:Grundschule an der Brucker Lache
X-ORIGINAL-URL:https://schule-bruckerlache.de
X-WR-CALDESC:Veranstaltungen für Grundschule an der Brucker Lache
REFRESH-INTERVAL;VALUE=DURATION:PT1H
X-Robots-Tag:noindex
X-PUBLISHED-TTL:PT1H
BEGIN:VTIMEZONE
TZID:Europe/Berlin
BEGIN:DAYLIGHT
TZOFFSETFROM:+0100
TZOFFSETTO:+0200
TZNAME:CEST
DTSTART:20250330T010000
END:DAYLIGHT
BEGIN:STANDARD
TZOFFSETFROM:+0200
TZOFFSETTO:+0100
TZNAME:CET
DTSTART:20251026T010000
END:STANDARD
END:VTIMEZONE
BEGIN:VEVENT
DTSTART;TZID=Europe/Berlin:20250411T090000
DTEND;TZID=Europe/Berlin:20250411T111500
DTSTAMP:20260423T150239
CREATED:20250323T103826Z
LAST-MODIFIED:20250331T172919Z
UID:3854-1744362000-1744370100@schule-bruckerlache.de
SUMMARY:Zwei Konzerte von Toni Komisch
DESCRIPTION:Konzert: ab 09:00 Uhr für die 3./4. Klassen\nKonzert: ab 10:15 Uhr für die 1./2. Klassen\nDauer eines Konzerts ca. 50 Minuten.
URL:https://schule-bruckerlache.de/event/zwei-konzert-von-toni-komisch/
END:VEVENT
END:VCALENDAR