BEGIN:VCALENDAR
VERSION:2.0
PRODID:-//Grundschule an der Brucker Lache - ECPv6.11.2.1//NONSGML v1.0//EN
CALSCALE:GREGORIAN
METHOD:PUBLISH
X-WR-CALNAME:Grundschule an der Brucker Lache
X-ORIGINAL-URL:https://schule-bruckerlache.de
X-WR-CALDESC:Veranstaltungen für Grundschule an der Brucker Lache
REFRESH-INTERVAL;VALUE=DURATION:PT1H
X-Robots-Tag:noindex
X-PUBLISHED-TTL:PT1H
BEGIN:VTIMEZONE
TZID:Europe/Berlin
BEGIN:DAYLIGHT
TZOFFSETFROM:+0100
TZOFFSETTO:+0200
TZNAME:CEST
DTSTART:20250330T010000
END:DAYLIGHT
BEGIN:STANDARD
TZOFFSETFROM:+0200
TZOFFSETTO:+0100
TZNAME:CET
DTSTART:20251026T010000
END:STANDARD
END:VTIMEZONE
BEGIN:VEVENT
DTSTART;TZID=Europe/Berlin:20250404T080000
DTEND;TZID=Europe/Berlin:20250404T110000
DTSTAMP:20260423T150225
CREATED:20241006T135844Z
LAST-MODIFIED:20241006T135844Z
UID:3692-1743753600-1743764400@schule-bruckerlache.de
SUMMARY:Fahrradprüfung im realen Verkehr 4 a/b/c
DESCRIPTION:Die Fahrradprüfung im realen Verkehr findet an der GS an der Brucker Lache statt.
URL:https://schule-bruckerlache.de/event/fahrradpruefung-im-realen-verkehr-4-a-b-c-2/
END:VEVENT
END:VCALENDAR