BEGIN:VCALENDAR
VERSION:2.0
PRODID:-//Grundschule an der Brucker Lache - ECPv6.11.2.1//NONSGML v1.0//EN
CALSCALE:GREGORIAN
METHOD:PUBLISH
X-ORIGINAL-URL:https://schule-bruckerlache.de
X-WR-CALDESC:Veranstaltungen für Grundschule an der Brucker Lache
REFRESH-INTERVAL;VALUE=DURATION:PT1H
X-Robots-Tag:noindex
X-PUBLISHED-TTL:PT1H
BEGIN:VTIMEZONE
TZID:Europe/Berlin
BEGIN:DAYLIGHT
TZOFFSETFROM:+0100
TZOFFSETTO:+0200
TZNAME:CEST
DTSTART:20250330T010000
END:DAYLIGHT
BEGIN:STANDARD
TZOFFSETFROM:+0200
TZOFFSETTO:+0100
TZNAME:CET
DTSTART:20251026T010000
END:STANDARD
END:VTIMEZONE
BEGIN:VEVENT
DTSTART;VALUE=DATE:20250324
DTEND;VALUE=DATE:20250329
DTSTAMP:20260423T164535
CREATED:20250323T112412Z
LAST-MODIFIED:20250323T112412Z
UID:3863-1742774400-1743206399@schule-bruckerlache.de
SUMMARY:Lesewoche 2025
DESCRIPTION:In dieser Woche wird den Schüler in mehreren Gruppen 20 Minuten vorgelesen.
URL:https://schule-bruckerlache.de/event/lesewoche-2025/
END:VEVENT
BEGIN:VEVENT
DTSTART;TZID=Europe/Berlin:20250324T080000
DTEND;TZID=Europe/Berlin:20250325T130000
DTSTAMP:20260423T164535
CREATED:20250323T112909Z
LAST-MODIFIED:20250323T112909Z
UID:3865-1742803200-1742907600@schule-bruckerlache.de
SUMMARY:Besuch des "Büchermobil Erlangen"
DESCRIPTION:Frau Wiese-Käppner ist Buchhändlerin und stellt speziell für die Schulkinder am Montag- und Dienstagvormittag Bücher vor.
URL:https://schule-bruckerlache.de/event/besuch-des-buechermobil-erlangen/
END:VEVENT
BEGIN:VEVENT
DTSTART;TZID=Europe/Berlin:20250325T180000
DTEND;TZID=Europe/Berlin:20250325T193000
DTSTAMP:20260423T164535
CREATED:20250323T113421Z
LAST-MODIFIED:20250323T113421Z
UID:3867-1742925600-1742931000@schule-bruckerlache.de
SUMMARY:Elternabend zum Motto "Vom Leseanfänger zum Bücherwurm"
DESCRIPTION:Damit auch Sie die Möglichkeit haben\, Bücher anzusehen\, zu schmökern bzw. zu kaufen\, kommt Frau Wiese-Käppner auch am Dienstagabend zu uns in die Schule. Darüber hinaus wird Frau Wiese-Käppner auch für Sie als Eltern in diesem Rahmen einen Büchervortag halten.
URL:https://schule-bruckerlache.de/event/elternabend-zum-motto-vom-leseanfaenger-zum-buecherwurm/
END:VEVENT
END:VCALENDAR