BEGIN:VCALENDAR
VERSION:2.0
PRODID:-//Grundschule an der Brucker Lache - ECPv6.11.2.1//NONSGML v1.0//EN
CALSCALE:GREGORIAN
METHOD:PUBLISH
X-WR-CALNAME:Grundschule an der Brucker Lache
X-ORIGINAL-URL:https://schule-bruckerlache.de
X-WR-CALDESC:Veranstaltungen für Grundschule an der Brucker Lache
REFRESH-INTERVAL;VALUE=DURATION:PT1H
X-Robots-Tag:noindex
X-PUBLISHED-TTL:PT1H
BEGIN:VTIMEZONE
TZID:Europe/Berlin
BEGIN:DAYLIGHT
TZOFFSETFROM:+0100
TZOFFSETTO:+0200
TZNAME:CEST
DTSTART:20240331T010000
END:DAYLIGHT
BEGIN:STANDARD
TZOFFSETFROM:+0200
TZOFFSETTO:+0100
TZNAME:CET
DTSTART:20241027T010000
END:STANDARD
END:VTIMEZONE
BEGIN:VEVENT
DTSTART;TZID=Europe/Berlin:20241202T080000
DTEND;TZID=Europe/Berlin:20241202T083000
DTSTAMP:20260425T204503
CREATED:20241006T101350Z
LAST-MODIFIED:20241006T101350Z
UID:3655-1733126400-1733128200@schule-bruckerlache.de
SUMMARY:Adventsfeier
DESCRIPTION:Die Adventsfeier wird von den 3. Klassen gestaltet.
URL:https://schule-bruckerlache.de/event/adventsfeier-3/
END:VEVENT
END:VCALENDAR