BEGIN:VCALENDAR
VERSION:2.0
PRODID:-//Grundschule an der Brucker Lache - ECPv6.11.2.1//NONSGML v1.0//EN
CALSCALE:GREGORIAN
METHOD:PUBLISH
X-ORIGINAL-URL:https://schule-bruckerlache.de
X-WR-CALDESC:Veranstaltungen für Grundschule an der Brucker Lache
REFRESH-INTERVAL;VALUE=DURATION:PT1H
X-Robots-Tag:noindex
X-PUBLISHED-TTL:PT1H
BEGIN:VTIMEZONE
TZID:Europe/Berlin
BEGIN:DAYLIGHT
TZOFFSETFROM:+0100
TZOFFSETTO:+0200
TZNAME:CEST
DTSTART:20240331T010000
END:DAYLIGHT
BEGIN:STANDARD
TZOFFSETFROM:+0200
TZOFFSETTO:+0100
TZNAME:CET
DTSTART:20241027T010000
END:STANDARD
END:VTIMEZONE
BEGIN:VEVENT
DTSTART;VALUE=DATE:20240701
DTEND;VALUE=DATE:20240706
DTSTAMP:20260426T024033
CREATED:20240104T143536Z
LAST-MODIFIED:20240104T143536Z
UID:3415-1719792000-1720223999@schule-bruckerlache.de
SUMMARY:Projektwoche 2024 Thema: Trommelzauber
DESCRIPTION:
URL:https://schule-bruckerlache.de/event/projektwoche-2024-thema-trommelzauber/
END:VEVENT
BEGIN:VEVENT
DTSTART;TZID=Europe/Berlin:20240702T183000
DTEND;TZID=Europe/Berlin:20240702T200000
DTSTAMP:20260426T024033
CREATED:20240517T175518Z
LAST-MODIFIED:20240517T181951Z
UID:3536-1719945000-1719950400@schule-bruckerlache.de
SUMMARY:Elternabend zur Projektwoche
DESCRIPTION:Die Eltern werden zum Mit-Trommeln angeleitet.
URL:https://schule-bruckerlache.de/event/elternabend-zur-projektwoche/
END:VEVENT
END:VCALENDAR